BEGIN:VCALENDAR
VERSION:2.0
PRODID:-//ChamberMaster//Event Calendar 2.0//EN
METHOD:PUBLISH
X-PUBLISHED-TTL:P3D
REFRESH-INTERVAL:P3D
CALSCALE:GREGORIAN
BEGIN:VEVENT
DTSTART;VALUE=DATE:20150608
DTEND;VALUE=DATE:20150610
TRANSP:TRANSPARENT
X-MICROSOFT-CDO-ALLDAYEVENT:TRUE
SUMMARY:Ambassador Youth Golf Tournament
DESCRIPTION:Ambassador Youth Golf Tournament\n\nJune 8 & 9\, 2015\n\nMonday\, June 8   River's Edge Golf Club\n\nTuesday\, June 9   Lake Maloney Golf Club
X-ALT-DESC;FMTTYPE=text/html:<span style="font-family:times new roman\,serif\;">Ambassador Youth Golf Tournament</span><br />\n<span style="font-family:times new roman\,serif\;">June 8 &amp\; 9\, 2015</span><br />\n<span style="font-family:times new roman\,serif\;">Monday\, June 8 &ndash\; River&rsquo\;s Edge Golf Club</span><br />\n<span style="font-family:times new roman\,serif\;">Tuesday\, June 9 &ndash\; Lake Maloney Golf Club</span>
LOCATION:
UID:e.590.7156
SEQUENCE:3
DTSTAMP:20260420T073102Z
URL:https://business.nparea.com/events/details/ambassador-youth-golf-tournament-06-08-2015-7156
END:VEVENT

END:VCALENDAR
