BEGIN:VCALENDAR
VERSION:2.0
PRODID:-//ChamberMaster//Event Calendar 2.0//EN
METHOD:PUBLISH
X-PUBLISHED-TTL:P3D
REFRESH-INTERVAL:P3D
CALSCALE:GREGORIAN
BEGIN:VEVENT
DTSTART:20151014T010000Z
DTEND:20151014T020000Z
X-MICROSOFT-CDO-ALLDAYEVENT:FALSE
SUMMARY:Ambassador General Membership Meeting
DESCRIPTION:
X-ALT-DESC;FMTTYPE=text/html:
LOCATION:Ole's Big Game Steakhouse and Lounge
UID:e.590.771
SEQUENCE:3
DTSTAMP:20260419T230027Z
URL:https://business.nparea.com/events/details/ambassador-general-membership-meeting-10-13-2015-771
END:VEVENT

END:VCALENDAR
