BEGIN:VCALENDAR
VERSION:2.0
PRODID:-//ChamberMaster//Event Calendar 2.0//EN
METHOD:PUBLISH
X-PUBLISHED-TTL:P3D
REFRESH-INTERVAL:P3D
CALSCALE:GREGORIAN
BEGIN:VEVENT
DTSTART:20140107T000000Z
DTEND:20140107T030000Z
X-MICROSOFT-CDO-ALLDAYEVENT:FALSE
SUMMARY:Ambassador General Membership Meeting
DESCRIPTION:Ambassador General Membership Meeting\n\nat Dave's Place
X-ALT-DESC;FMTTYPE=text/html:Ambassador General Membership Meeting<br />\nat Dave&#39\;s Place
LOCATION:
UID:e.590.750
SEQUENCE:3
DTSTAMP:20260421T134718Z
URL:https://business.nparea.com/events/details/ambassador-general-membership-meeting-01-06-2014-750
END:VEVENT

END:VCALENDAR
