BEGIN:VCALENDAR
VERSION:2.0
PRODID:-//ChamberMaster//Event Calendar 2.0//EN
METHOD:PUBLISH
X-PUBLISHED-TTL:P3D
REFRESH-INTERVAL:P3D
CALSCALE:GREGORIAN
BEGIN:VEVENT
DTSTART:20121215T000000Z
DTEND:20121214T180000Z
X-MICROSOFT-CDO-ALLDAYEVENT:FALSE
SUMMARY:Ambassador Christmas Party
DESCRIPTION:Ambassador Christmas Party at Margie's Bar & Grille
X-ALT-DESC;FMTTYPE=text/html:Ambassador Christmas Party at Margie&#39\;s Bar &amp\; Grille
LOCATION:
UID:e.590.737
SEQUENCE:3
DTSTAMP:20260422T114024Z
URL:https://business.nparea.com/events/details/ambassador-christmas-party-12-14-2012-737
END:VEVENT

END:VCALENDAR
