BEGIN:VCALENDAR
VERSION:2.0
PRODID:-//ChamberMaster//Event Calendar 2.0//EN
METHOD:PUBLISH
X-PUBLISHED-TTL:P3D
REFRESH-INTERVAL:P3D
CALSCALE:GREGORIAN
BEGIN:VEVENT
DTSTART:20151212T000000Z
DTEND:20151211T180000Z
X-MICROSOFT-CDO-ALLDAYEVENT:FALSE
SUMMARY:Ambassador Christmas Party
DESCRIPTION:Ambassador Christmas Party\n\nHarbor Lights\n\n6pm
X-ALT-DESC;FMTTYPE=text/html:Ambassador Christmas Party<br />\nHarbor Lights<br />\n6pm
LOCATION:
UID:e.590.7520
SEQUENCE:3
DTSTAMP:20260419T191612Z
URL:https://business.nparea.com/events/details/ambassador-christmas-party-12-11-2015-7520
END:VEVENT

END:VCALENDAR
