BEGIN:VCALENDAR
VERSION:2.0
PRODID:-//ChamberMaster//Event Calendar 2.0//EN
METHOD:PUBLISH
X-PUBLISHED-TTL:P3D
REFRESH-INTERVAL:P3D
CALSCALE:GREGORIAN
BEGIN:VEVENT
DTSTART:20150319T170000Z
DTEND:20150319T180000Z
X-MICROSOFT-CDO-ALLDAYEVENT:FALSE
SUMMARY:Agri Business Committee Meeting
DESCRIPTION:
X-ALT-DESC;FMTTYPE=text/html:
LOCATION:
UID:e.590.229
SEQUENCE:3
DTSTAMP:20260420T125318Z
URL:https://business.nparea.com/events/details/agri-business-committee-meeting-03-19-2015-229
END:VEVENT

END:VCALENDAR
