BEGIN:VCALENDAR
VERSION:2.0
PRODID:-//ChamberMaster//Event Calendar 2.0//EN
METHOD:PUBLISH
X-PUBLISHED-TTL:P3D
REFRESH-INTERVAL:P3D
CALSCALE:GREGORIAN
BEGIN:VEVENT
DTSTART:20141114T160000Z
DTEND:20141114T180000Z
X-MICROSOFT-CDO-ALLDAYEVENT:FALSE
SUMMARY:Ag Sales Tax Seminar
DESCRIPTION:Education Seminar on Ag Sales Tax Exemption on farm equipment and repairs
X-ALT-DESC;FMTTYPE=text/html:Education Seminar on Ag Sales Tax Exemption on farm equipment and repairs
LOCATION:Mid-Plains College North Campus
UID:e.590.5916
SEQUENCE:3
DTSTAMP:20260420T221307Z
URL:https://business.nparea.com/events/details/ag-sales-tax-seminar-11-14-2014-5916
END:VEVENT

END:VCALENDAR
