BEGIN:VCALENDAR
VERSION:2.0
PRODID:-//ChamberMaster//Event Calendar 2.0//EN
METHOD:PUBLISH
X-PUBLISHED-TTL:P3D
REFRESH-INTERVAL:P3D
CALSCALE:GREGORIAN
BEGIN:VEVENT
DTSTART:20120531T220000Z
DTEND:20120601T000000Z
X-MICROSOFT-CDO-ALLDAYEVENT:FALSE
SUMMARY:ABC Seamless RC & GO Social Event
DESCRIPTION:
X-ALT-DESC;FMTTYPE=text/html:
LOCATION:633 North Jeffers
UID:e.590.3551
SEQUENCE:3
DTSTAMP:20260423T021117Z
URL:https://business.nparea.com/events/details/abc-seamless-rc-go-social-event-05-31-2012-3551
END:VEVENT

END:VCALENDAR
