BEGIN:VCALENDAR
VERSION:2.0
PRODID:-//ChamberMaster//Event Calendar 2.0//EN
METHOD:PUBLISH
X-PUBLISHED-TTL:P3D
REFRESH-INTERVAL:P3D
CALSCALE:GREGORIAN
BEGIN:VEVENT
DTSTART:20150807T170000Z
DTEND:20150809T170000Z
X-MICROSOFT-CDO-ALLDAYEVENT:FALSE
SUMMARY:2015 Ambassador Golf Classic
DESCRIPTION:Ambassador Golf Classic\n\nAugust 7\,8 and 9\, 2015
X-ALT-DESC;FMTTYPE=text/html:Ambassador Golf Classic<br />\nAugust 7\,8 and 9\, 2015
LOCATION:
UID:e.590.7356
SEQUENCE:3
DTSTAMP:20260420T033907Z
URL:https://business.nparea.com/events/details/2015-ambassador-golf-classic-08-07-2015-7356
END:VEVENT

END:VCALENDAR
