BEGIN:VCALENDAR
VERSION:2.0
PRODID:-//ChamberMaster//Event Calendar 2.0//EN
METHOD:PUBLISH
X-PUBLISHED-TTL:P3D
REFRESH-INTERVAL:P3D
CALSCALE:GREGORIAN
BEGIN:VEVENT
DTSTART:20140206T030000Z
DTEND:20140206T220000Z
X-MICROSOFT-CDO-ALLDAYEVENT:FALSE
SUMMARY:2014 Farm & Ranch Expo
DESCRIPTION:23rd Annual Buffalo Bill Farm & Ranch Expo\n\n	Wednesday\, February 5th\n\n	9:00 am - 6:00 pm\n\n	Thursday\, February 6th\n\n	9:00 am - 4:00 pm\n\n	 \n\n	North Platte Nebraska\n\n	D & N Event Center\n\n	S. Hwy 83 & E. Walker Rd
X-ALT-DESC;FMTTYPE=text/html:<div id="ms__id5" style="text-align: center\;">\n	<br />\n	<br />\n	<strong>23rd Annual Buffalo Bill Farm &amp\; Ranch Expo</strong></div>\n<div id="ms__id6" style="text-align: center\;">\n	<strong>Wednesday\, February 5th</strong><br />\n	<strong>9:00 am - 6:00 pm</strong></div>\n<div id="ms__id8" style="text-align: center\;">\n	<strong>Thursday\, February 6th</strong></div>\n<div id="ms__id9" style="text-align: center\;">\n	<strong>9:00 am - 4:00 pm</strong></div>\n<div id="ms__id10" style="text-align: center\;">\n	&nbsp\;</div>\n<div id="ms__id11" style="text-align: center\;">\n	<strong>North Platte Nebraska</strong></div>\n<div id="ms__id12" style="text-align: center\;">\n	<strong>D &amp\; N Event Center</strong></div>\n<div id="ms__id14" style="text-align: center\;">\n	<strong>S. Hwy 83 &amp\; E. Walker Rd</strong></div>\n
LOCATION:D & N EVENT CENTER SOUTH HWY 83 & E. WALKER RD. NORTH PLATTE NEBRASKA
UID:e.590.5132
SEQUENCE:3
DTSTAMP:20260421T114043Z
URL:https://business.nparea.com/events/details/2014-farm-ranch-expo-02-05-2014-5132
END:VEVENT

END:VCALENDAR
