BEGIN:VCALENDAR
VERSION:2.0
PRODID:-//ChamberMaster//Event Calendar 2.0//EN
METHOD:PUBLISH
X-PUBLISHED-TTL:P3D
REFRESH-INTERVAL:P3D
CALSCALE:GREGORIAN
BEGIN:VEVENT
DTSTART:20141106T180000Z
DTEND:20141106T190000Z
X-MICROSOFT-CDO-ALLDAYEVENT:FALSE
SUMMARY:2014 Annual Meeting
DESCRIPTION:2014 Annual Meeting\n\nNovember 6\, 2014\n\nMenu: Bacon Wrapped Chopped Steak\, House Salad\, Baked Potato\, Vegetables\, Dinner Rolls\, Coffee or Tea and Dessert
X-ALT-DESC;FMTTYPE=text/html:2014 Annual Meeting<br />\nNovember 6\, 2014<br />\nMenu: Bacon Wrapped Chopped Steak\, House Salad\, Baked Potato\, Vegetables\, Dinner Rolls\, Coffee or Tea and Dessert
LOCATION:Quality Inn& Suites/Sandhills convention Center\, 2102 South Jeffers
UID:e.590.5913
SEQUENCE:3
DTSTAMP:20260420T220758Z
URL:https://business.nparea.com/events/details/2014-annual-meeting-11-06-2014-5913
END:VEVENT

END:VCALENDAR
