BEGIN:VCALENDAR
VERSION:2.0
PRODID:-//ChamberMaster//Event Calendar 2.0//EN
METHOD:PUBLISH
X-PUBLISHED-TTL:P3D
REFRESH-INTERVAL:P3D
CALSCALE:GREGORIAN
BEGIN:VEVENT
DTSTART:20131017T120000Z
DTEND:20131017T133000Z
X-MICROSOFT-CDO-ALLDAYEVENT:FALSE
SUMMARY:2013 State Chamber Legislative Forum Breakfast
DESCRIPTION:2013 State Chamber Legislative Forum Breakfast\n\n	October 17th\, 2013\n\n	7:00 am - 8:30 am \n\n	\n\n	Holiday Inn Express\n\n	300 Holiday Frontage Rd\n\n	North Platte\, NE 69101
X-ALT-DESC;FMTTYPE=text/html:<p>\n	<span style="font-size: 14px\;"><span style="font-family: arial\;"><strong>2013 State Chamber Legislative Forum Breakfast</strong></span></span></p>\n<p>\n	October 17th\, 2013<br />\n	7:00 am - 8:30 am&nbsp\;<br />\n	<br />\n	Holiday Inn Express<br />\n	300 Holiday Frontage Rd<br />\n	North Platte\, NE 69101</p>\n
LOCATION:Holiday Inn Express 300 Holiday Frontage Rd North Platte\, NE 69101
UID:e.590.4645
SEQUENCE:3
DTSTAMP:20260421T191915Z
URL:https://business.nparea.com/events/details/2013-state-chamber-legislative-forum-breakfast-10-17-2013-4645
END:VEVENT

END:VCALENDAR
