BEGIN:VCALENDAR
VERSION:2.0
PRODID:-//ChamberMaster//Event Calendar 2.0//EN
METHOD:PUBLISH
X-PUBLISHED-TTL:P3D
REFRESH-INTERVAL:P3D
CALSCALE:GREGORIAN
BEGIN:VEVENT
DTSTART:20131114T180000Z
DTEND:20131114T190000Z
X-MICROSOFT-CDO-ALLDAYEVENT:FALSE
SUMMARY:2013 Chamber & Development Annual Meeting
DESCRIPTION:
X-ALT-DESC;FMTTYPE=text/html:
LOCATION:Quality Inn & Suites
UID:e.590.5421
SEQUENCE:3
DTSTAMP:20260421T191945Z
URL:https://business.nparea.com/events/details/2013-chamber-development-annual-meeting-11-14-2013-5421
END:VEVENT

END:VCALENDAR
