BEGIN:VCALENDAR
VERSION:2.0
PRODID:-//ChamberMaster//Event Calendar 2.0//EN
METHOD:PUBLISH
X-PUBLISHED-TTL:P3D
REFRESH-INTERVAL:P3D
CALSCALE:GREGORIAN
BEGIN:VEVENT
DTSTART:20130411T133000Z
DTEND:20130411T170000Z
X-MICROSOFT-CDO-ALLDAYEVENT:FALSE
SUMMARY:2013 Bill Drury Seminar (How to Win Customers)
DESCRIPTION:Seminar - How to Win Customers and Reduce Lost Sales
X-ALT-DESC;FMTTYPE=text/html:<p>\n	Seminar - How to Win Customers and Reduce Lost Sales<br />\n	<br />\n	&nbsp\;</p>\n
LOCATION:North Platte Community College (North Campus) 1101 Halligan Drive\, Room 203 North Platte NE 69101
UID:e.590.4877
SEQUENCE:3
DTSTAMP:20260422T064852Z
URL:https://business.nparea.com/events/details/2013-bill-drury-seminar-how-to-win-customers-04-11-2013-4877
END:VEVENT

END:VCALENDAR
