BEGIN:VCALENDAR
VERSION:2.0
PRODID:-//ChamberMaster//Event Calendar 2.0//EN
METHOD:PUBLISH
X-PUBLISHED-TTL:P3D
REFRESH-INTERVAL:P3D
CALSCALE:GREGORIAN
BEGIN:VEVENT
DTSTART:20120613T133000Z
DTEND:20120613T163000Z
X-MICROSOFT-CDO-ALLDAYEVENT:FALSE
SUMMARY:2012 Seminar AM Session (Keeping Customers)
DESCRIPTION:Seminar - Keeping Customers\n\n	\n\n	Training in Conflict Resolution for Better Customer Management
X-ALT-DESC;FMTTYPE=text/html:<p>\n	Seminar - Keeping Customers<br />\n	<br />\n	Training in Conflict Resolution&nbsp\;for Better&nbsp\;Customer Management</p>\n
LOCATION:North Platte Community College (North Campus) 1101 Halligan Drive\, Room 202 North Platte NE 69101
UID:e.590.3558
SEQUENCE:3
DTSTAMP:20260422T220214Z
URL:https://business.nparea.com/events/details/2012-seminar-am-session-keeping-customers-06-13-2012-3558
END:VEVENT

END:VCALENDAR
