BEGIN:VCALENDAR
VERSION:2.0
PRODID:-//ChamberMaster//Event Calendar 2.0//EN
METHOD:PUBLISH
X-PUBLISHED-TTL:P3D
REFRESH-INTERVAL:P3D
CALSCALE:GREGORIAN
BEGIN:VEVENT
DTSTART:20121113T000000Z
DTEND:20121113T020000Z
X-MICROSOFT-CDO-ALLDAYEVENT:FALSE
SUMMARY:2012 Farmer/Rancher Banquet
DESCRIPTION:
X-ALT-DESC;FMTTYPE=text/html:
LOCATION:Sandhills Convention Center in the Quality Inn & Suites North Platte Nebraska
UID:e.590.4258
SEQUENCE:3
DTSTAMP:20260422T131757Z
URL:https://business.nparea.com/events/details/2012-farmer-rancher-banquet-11-12-2012-4258
END:VEVENT

END:VCALENDAR
