BEGIN:VCALENDAR
VERSION:2.0
PRODID:-//ChamberMaster//Event Calendar 2.0//EN
METHOD:PUBLISH
X-PUBLISHED-TTL:P3D
REFRESH-INTERVAL:P3D
CALSCALE:GREGORIAN
BEGIN:VEVENT
DTSTART:20130906T220000Z
DTEND:20130907T000000Z
X-MICROSOFT-CDO-ALLDAYEVENT:FALSE
SUMMARY:1st Friday BAH at Westfield Shopping Center
DESCRIPTION:First Friday Business After Hours\n\nat Westfield Shopping Center\n\n5pm - 7pm\n\nA & Carr
X-ALT-DESC;FMTTYPE=text/html:First Friday Business After Hours<br />\nat Westfield Shopping Center<br />\n5pm - 7pm<br />\nA &amp\; Carr
LOCATION:
UID:e.590.4641
SEQUENCE:3
DTSTAMP:20260421T225512Z
URL:https://business.nparea.com/events/details/1st-friday-bah-at-westfield-shopping-center-09-06-2013-4641
END:VEVENT

END:VCALENDAR
